BEGIN:VCALENDAR
VERSION:2.0
PRODID:-//ChamberMaster//Event Calendar 2.0//EN
METHOD:PUBLISH
X-PUBLISHED-TTL:P3D
REFRESH-INTERVAL:P3D
CALSCALE:GREGORIAN
BEGIN:VEVENT
DTSTART:20190807T160000Z
DTEND:20190807T170000Z
X-MICROSOFT-CDO-ALLDAYEVENT:FALSE
SUMMARY:Union County Public Schools - School Nutrition Services Summer Feeding
DESCRIPTION:Union County Public Schools - School Nutrition Services is offering FREE nutritional meals (lunch) this summer for children 18 years and under. \n\n\n\nMonday - Thursday\n\nNoon - 1:00 pm \n\nJune 10 - August 9\n\nWalter Bickett Elementary School\n\n830 North MLK Jr. Blvd\, Monroe\, NC\n\n\n\n*Meals will not be serviced during the week of July 4.
X-ALT-DESC;FMTTYPE=text/html:Union County Public Schools - School Nutrition Services is offering FREE nutritional meals (lunch) this summer for children 18 years and under.&nbsp\;<br />\n<br />\nMonday - Thursday<br />\nNoon - 1:00 pm&nbsp\;<br />\nJune 10 - August 9<br />\nWalter Bickett Elementary School<br />\n830 North MLK Jr. Blvd\, Monroe\, NC<br />\n<br />\n*Meals will not be serviced during the week of July 4.&nbsp\;
LOCATION:
UID:e.391.20402
SEQUENCE:3
DTSTAMP:20260425T130308Z
URL:https://members.unioncountycoc.com/events/details/union-county-public-schools-school-nutrition-services-summer-feeding-08-07-2019-20402
END:VEVENT

END:VCALENDAR
