BEGIN:VCALENDAR
VERSION:2.0
PRODID:-//ChamberMaster//Event Calendar 2.0//EN
METHOD:PUBLISH
X-PUBLISHED-TTL:P3D
REFRESH-INTERVAL:P3D
CALSCALE:GREGORIAN
BEGIN:VEVENT
DTSTART:20190502T220000Z
DTEND:20190503T010000Z
X-MICROSOFT-CDO-ALLDAYEVENT:FALSE
SUMMARY:Sip and Shop
DESCRIPTION:Come and shop downtown Monroe. Several shops will be open for you to browse. Wine and light hor d'oeuvres available in most locations.
X-ALT-DESC;FMTTYPE=text/html:Come and shop downtown Monroe. Several shops will be open for you to browse. Wine and light hor d&#39\;oeuvres available in most locations.
LOCATION:The Faded Rose
UID:e.391.16634
SEQUENCE:3
DTSTAMP:20260422T194827Z
URL:https://members.unioncountycoc.com/events/details/sip-and-shop-05-02-2019-16634
END:VEVENT

END:VCALENDAR
