BEGIN:VCALENDAR
VERSION:2.0
PRODID:-//ChamberMaster//Event Calendar 2.0//EN
METHOD:PUBLISH
X-PUBLISHED-TTL:P3D
REFRESH-INTERVAL:P3D
CALSCALE:GREGORIAN
BEGIN:VEVENT
DTSTART:20240222T223000Z
DTEND:20240223T003000Z
X-MICROSOFT-CDO-ALLDAYEVENT:FALSE
SUMMARY:Simple Steps for Starting Your Business #1 - 2022
DESCRIPTION:Is Starting a Business Right for You? SCORE virtual workshop\n\n \n\nSession 1: Start-Up Basics   FREE SCORE Virtual Charlotte Workshop \n\nThis introductory workshop focuses on the Business Start-Up Basics of testing your business idea and identifying the key factors that influence start-up success. The Business Start-Up Basics Virtual Workshop provides you with an overview of the skills and tools you need when deciding to start a business. \n\nIn this session\, you learn about the advantages and disadvantages of owning a business\, the most profitable form for your business\, and the fundamentals of formation\, organization\, marketing\, cash flow and funding sources.\n\nPresented by SCORE Charlotte Certified Mentors at no cost to you. \n\n \n\nTO REGISTER\, GO TO https://www.score.org/charlotte/local-workshops
X-ALT-DESC;FMTTYPE=text/html:<strong><span style="color:black"><span style="font-size:14.0pt">Is Starting a Business Right for You? SCORE virtual workshop</span></span></strong><br />\n&nbsp\;<br />\n<strong><span style="color:black">Session 1: Start-Up Basics &ndash\; FREE SCORE Virtual Charlotte Workshop&nbsp\;</span></strong><br />\n<span style="color:black">This introductory workshop focuses on the Business Start-Up Basics of testing your business idea and identifying the key factors that influence start-up success. The Business Start-Up Basics Virtual Workshop provides you with an overview of the skills and tools you need when deciding to start a business.&nbsp\;</span><br />\n<span style="color:black">In this session\, you learn about the advantages and disadvantages of owning a business\, the most profitable form for your business\, and the fundamentals of formation\, organization\, marketing\, cash flow and funding sources.</span><br />\n<strong><em><span style="color:black">Presented by SCORE Charlotte Certified Mentors at no cost to you.&nbsp\;</span></em></strong><br />\n&nbsp\;<br />\n<strong><span style="color:black">TO REGISTER\, GO TO </span></strong><a href="https://www.score.org/charlotte/local-workshops">https://www.score.org/charlotte/local-workshops</a><br />\n&nbsp\;<br />\n<br />\n&nbsp\;
LOCATION:ZOOM ON LINE EVENT
UID:e.391.23090
SEQUENCE:3
DTSTAMP:20260421T102021Z
URL:https://members.unioncountycoc.com/events/details/simple-steps-for-starting-your-business-1-2022-02-22-2024-23090
END:VEVENT

END:VCALENDAR
