BEGIN:VCALENDAR
VERSION:2.0
PRODID:-//ChamberMaster//Event Calendar 2.0//EN
METHOD:PUBLISH
X-PUBLISHED-TTL:P3D
REFRESH-INTERVAL:P3D
CALSCALE:GREGORIAN
BEGIN:VEVENT
DTSTART:20230222T163000Z
DTEND:20230222T180000Z
X-MICROSOFT-CDO-ALLDAYEVENT:FALSE
SUMMARY:Sell More with an Engaging Email Strategy - a Grow with Google Presentation Business Builder Luncheon
DESCRIPTION:The number one topic requested for Business Builder Lunches is help with marketing. YOUR Chamber is excited to partner with Grow with Google to bring you a powerful presentation to help your business sell more!\n\n\n\nIn this new year\, you may be looking for new opportunities to market your products and services. Email marketing can help you increase sales by reaching customers with the right message\, at the right time.\n\n\n\nIn this Partner Digital Series workshop hosted by Google\, Enovia Bedford\, Founder of VettDeck will teach you how to engage customers with well-designed emails\, segment your customer base to deliver tailored messages\, and track performance to refine your strategy. \n\n\n\nSeating is limited\, and these sessions almost always sell out. Make sure to register today to secure your seat!\n\n \nLeveraging entrepreneurial vision and drive\, Enovia Bedford thrives in startup and early-stage environments\, working to drive profitable growth by coordinating clients with industry-leading companies\, partners\, and sponsors. Her experience encompasses diverse industries\, with a special talent for marketing\, p.r.\, social media branding\, event planning\, and relationship building. Enovia prides herself on developing and implementing engaging and impactful influencer programs\, workshops\, and campaigns. Originally from New York\, Enovia moved to North Carolina in 2015 where she became the Marketing Director for a restaurant group and Co-Founded  BLKTECHCLT\, the first community for black entrepreneurs and technologists in Charlotte\, NC which was acquired in 2021.\n  \n\nEnovia's current role is Founder in VettDeck\, a crowdsourced lead generation platform for the sponsorship and event industry. In previous roles\, Enovia has provided creativity\, innovation\, and leadership to marketing and branding activities\, including experiential\, print\, digital\, and social media campaigns. Furthermore\, she's cultivated sponsorships and partnerships with industry leaders such as Keurig\, Jim Beam\, Wal-Mart\, Candies\, JCPenney's\, Top Shop\, Airbnb\, Tito's\, Jack Daniels\, and more. \n  \n\nEnovia is both creative and strategic\, providing vision and direction needed to define company goals\, promote a brand to consumers\, drive growth\, and optimize revenue generation.
X-ALT-DESC;FMTTYPE=text/html:<br />\nThe number one topic requested for Business Builder Lunches is help with marketing. YOUR Chamber is excited to partner with Grow with Google to bring you a powerful presentation to help your business sell more!<br />\n<br />\n<span style="font-family:arial\,sans-serif\;"><span style="font-size:10.0pt\;">In this new year\, you may be looking for new opportunities to market your products and services. Email marketing can help you increase sales by reaching customers with the right message\, at the right time.<br />\n<br />\nIn this Partner Digital Series workshop hosted by Google\, Enovia Bedford\, Founder of VettDeck will teach you how to engage customers with well-designed emails\, segment your customer base to deliver tailored messages\, and track performance to refine your strategy.&nbsp\;</span></span><br />\n<br />\nSeating is limited\, and these sessions almost always sell out. Make sure to register today to secure your seat!<br />\n&nbsp\;\n<p dir="ltr" style="line-height:1.3800000000000001\;margin-top:0pt\;margin-bottom:0pt\;"><span style="font-size:12px\;"><em><span id="docs-internal-guid-6defde53-7fff-3df0-be82-1390a2d947d3"><span style="font-family: Roboto\, sans-serif\; color: rgb(0\, 0\, 0)\; font-variant-numeric: normal\; font-variant-east-asian: normal\; vertical-align: baseline\; white-space: pre-wrap\;">Leveraging entrepreneurial vision and drive\, Enovia Bedford thrives in startup and early-stage environments\, working to drive profitable growth by coordinating clients with industry-leading companies\, partners\, and sponsors. Her experience encompasses diverse industries\, with a special talent for marketing\, p.r.\, social media branding\, event planning\, and relationship building. Enovia prides herself on developing and implementing engaging and impactful influencer programs\, workshops\, and campaigns. Originally from New York\, Enovia moved to North Carolina in 2015 where she became the Marketing Director for a restaurant group and Co-Founded&nbsp\; </span><a href="https://blktechinteractive.com/" style="text-decoration-line: none\;"><span style="font-family: Roboto\, sans-serif\; color: rgb(17\, 85\, 204)\; font-variant-numeric: normal\; font-variant-east-asian: normal\; text-decoration-line: underline\; text-decoration-skip-ink: none\; vertical-align: baseline\; white-space: pre-wrap\;">BLKTECHCLT</span></a><span style="font-family: Roboto\, sans-serif\; color: rgb(0\, 0\, 0)\; font-variant-numeric: normal\; font-variant-east-asian: normal\; vertical-align: baseline\; white-space: pre-wrap\;">\, the first community for black entrepreneurs and technologists in Charlotte\, NC which was acquired in 2021.</span></span></em></span></p>\n<span style="font-size:12px\;"> &nbsp\;</span>\n\n<p dir="ltr" style="line-height:1.3800000000000001\;margin-top:0pt\;margin-bottom:0pt\;"><span style="font-size:12px\;"><em><span id="docs-internal-guid-6defde53-7fff-3df0-be82-1390a2d947d3"><span style="font-family: Roboto\, sans-serif\; color: rgb(0\, 0\, 0)\; font-variant-numeric: normal\; font-variant-east-asian: normal\; vertical-align: baseline\; white-space: pre-wrap\;">Enovia&#39\;s current role is Founder in VettDeck\, a crowdsourced lead generation platform for the sponsorship and event industry. In previous roles\, Enovia has provided creativity\, innovation\, and leadership to marketing and branding activities\, including experiential\, print\, digital\, and social media campaigns. Furthermore\, she&#39\;s cultivated sponsorships and partnerships with industry leaders such as Keurig\, Jim Beam\, Wal-Mart\, Candies\, JCPenney&#39\;s\, Top Shop\, Airbnb\, Tito&#39\;s\, Jack Daniels\, and more. </span></span></em></span></p>\n<span style="font-size:12px\;"> &nbsp\;</span>\n\n<p dir="ltr" style="line-height:1.3800000000000001\;margin-top:0pt\;margin-bottom:0pt\;"><span style="font-size:12px\;"><em><span id="docs-internal-guid-6defde53-7fff-3df0-be82-1390a2d947d3"><span style="font-family: Roboto\, sans-serif\; color: rgb(0\, 0\, 0)\; font-variant-numeric: normal\; font-variant-east-asian: normal\; vertical-align: baseline\; white-space: pre-wrap\;">Enovia is both creative and strategic\, providing vision and direction needed to define company goals\, promote a brand to consumers\, drive growth\, and optimize revenue generation.&nbsp\;</span></span></em></span></p>\n<br />\n<br />\n<br />\n<br />\n&nbsp\;
LOCATION:Union County Chamber 903 Skyway Dr Monroe\, NC 28110
UID:e.391.22755
SEQUENCE:3
DTSTAMP:20260426T021113Z
URL:https://members.unioncountycoc.com/events/details/sell-more-with-an-engaging-email-strategy-a-grow-with-google-presentation-business-builder-luncheon-22755
END:VEVENT

END:VCALENDAR
