BEGIN:VCALENDAR
VERSION:2.0
PRODID:-//ChamberMaster//Event Calendar 2.0//EN
METHOD:PUBLISH
X-PUBLISHED-TTL:P3D
REFRESH-INTERVAL:P3D
CALSCALE:GREGORIAN
BEGIN:VEVENT
DTSTART:20250605T150000Z
DTEND:20250605T170000Z
X-MICROSOFT-CDO-ALLDAYEVENT:FALSE
SUMMARY:Safety Awards Banquet
DESCRIPTION:SOLD OUT \nJoin us on Thursday\, June 5th\, 2025\, as we celebrate with the 2024 Safety Awards Recipients at our Annual Safety Awards Luncheon. \n\n\n\nNetwork with fellow Chamber members and guests. Awards are bestowed in three categories:  Silver\, Gold\, and Million Hours Safety Awards.\n\n \nSilver Awards\n\nCriteria: Rate of days from work must be at least 50% below the industry average\n\n\n\n\n\nAtrium Health ? Jesse Helms Nursing Center\n\nAtrium Health ? Union\n\nCharlotte Pipe and Foundry Cast Iron Division\n\nRecord USA\n\nUnion County Community Action\, Inc.\n\nUnion County Public Schools\n\n\n\n \n\nGold Awards\n\nCriteria: Rate of days away from work\, job transfer or restriction must be at least 50% below the industry average.\n\n\n\nAFL Enterprise Services\, Inc.\n\nAMCOR\n\nASSA ABLOY Door Controls\n\nASSA ABLOY Service Parts\n\nASSA ABLOY Entrance Systems\n\nATI Specialty Materials\, LLC\n\nAtrium Health ? Hospice & Palliative Care Union\n\nAtrium Health ? Union West\n\nAtrium Health ? Waxhaw Family Medicine\n\nAtrium Health ? Lake Park Family Medicine\n\nCentury Contractors\, Inc.\n\nCIROR Pumps\n\nCity of Rockingham\n\nCity of Rockingham Administration Department\n\nCity of Rockingham Buildings & Grounds\n\nCity of Rockingham Fire Department\n\nCity of Rockingham Police Department\n\nCity of Rockingham Public Works\n\nCity of Rockingham Wastewater Treatment Place\n\nCity of Rockingham Water Treatment Plant\n\nCollins Aerospace\n\nCorning\n\nDove Internal Medicine ? Indian Trail\n\nGoulston Technologies\, Inc.\n\nHarris Teeter\n\nHoliday Inn Express & Suites Monroe\n\nMartin Marietta Materials\, Inc. ? Bakers Quarry\n\nMcGee Corporation\n\nMidway Aerospace\n\nNatural Family Planning OB/GYN\n\nPureon\n\nRecord USA\n\nSanger Heart and Vascular Institute\n\nUnion County Government\n\nUnion County Parks and Recreation\n\nUnion County Water\n\nUnion County Water\n\nUnion County Community Action\, Inc.\n\nVulcan Construction Materials LP Mideast Division - Rockingham Quarry\n\n\n\n \n\nMillion Hours Award\n\nGiven to companies which accumulate one million employee hours with no injuries or illnesses involving days away from work.\n\n\n\nCentury Contractors\, Inc.\n\nRecord USA
X-ALT-DESC;FMTTYPE=text/html:<h2 style="font-style: italic\; text-align: center\;"><span style="color:#F36C3B\;"><strong>SOLD OUT&nbsp\;</strong></span></h2>\n<font face="arial"><span style="font-size: 14px\;">Join us on </span></font><b style="font-family: arial\; font-size: 14px\;">Thursday\, June 5</b><font face="arial"><span style="font-size: 14px\;"><b>th\,</b></span><b style="font-size: 14px\;">&nbsp\;2025\,</b></font><b style="font-family: arial\; font-size: 14px\;">&nbsp\;</b><font face="arial"><span style="font-size: 14px\;">as we celebrate with the</span></font><span style="font-family: arial\; font-size: 14px\; color: rgb(0\, 0\, 255)\;"> </span><span style="font-family: arial\; font-size: 14px\; color: rgb(255\, 0\, 0)\;"><strong>2024 Safety Awards Recipients</strong> </span><font face="arial"><span style="font-size: 14px\;">at our </span></font><strong style="font-family: arial\; font-size: 14px\;">Annual Safety Awards Luncheon</strong><font face="arial"><span style="font-size: 14px\;">.&nbsp\;</span></font><br />\n<br />\n<font face="arial"><span style="font-size: 14px\;">Network with fellow Chamber members and guests. Awards are bestowed in three categories: &nbsp\;Silver\, Gold\, and Million Hours Safety Awards.</span></font><br />\n&nbsp\;\n<div style="text-align: center\;"><font face="arial"><span style="font-size: 14px\;"><u><strong>Silver Awards</strong></u><br />\n<em>Criteria: Rate of days from work must be at least 50% below the industry average</em></span></font></div>\n\n<div style="text-align: center\;"><br />\n<br />\n<font face="arial"><span style="font-size: 14px\;">Atrium Health ? Jesse Helms Nursing Center<br />\nAtrium Health ? Union<br />\nCharlotte Pipe and Foundry Cast Iron Division</span></font><br />\n<span style="font-family: arial\; font-size: 14px\; text-align: center\;">Record USA</span><br />\n<font face="arial"><span style="font-size: 14px\;">Union County Community Action\, Inc.<br />\nUnion County Public Schools<br />\n<br />\n&nbsp\;<br />\n<u><strong>Gold Awards</strong></u><br />\n<em>Criteria: Rate of days away from work\, job transfer or restriction must be at least 50% below the industry average.</em></span></font></div>\n\n<div style="text-align: center\;"><br />\n<font face="arial"><span style="font-size: 14px\;">AFL Enterprise Services\, Inc.<br />\nAMCOR<br />\nASSA ABLOY Door Controls<br />\nASSA ABLOY Service Parts<br />\nASSA ABLOY Entrance Systems<br />\nATI Specialty Materials\, LLC<br />\nAtrium Health ? Hospice &amp\; Palliative Care Union<br />\nAtrium Health ? Union West<br />\nAtrium Health ? Waxhaw Family Medicine<br />\nAtrium Health ? Lake Park Family Medicine<br />\nCentury Contractors\, Inc.<br />\nCIROR Pumps<br />\nCity of Rockingham<br />\nCity of Rockingham Administration Department<br />\nCity of Rockingham Buildings &amp\; Grounds<br />\nCity of Rockingham Fire Department<br />\nCity of Rockingham Police Department<br />\nCity of Rockingham Public Works<br />\nCity of Rockingham Wastewater Treatment Place<br />\nCity of Rockingham Water Treatment Plant<br />\nCollins Aerospace<br />\nCorning<br />\nDove Internal Medicine ? Indian Trail<br />\nGoulston Technologies\, Inc.<br />\nHarris Teeter<br />\nHoliday Inn Express &amp\; Suites Monroe<br />\nMartin Marietta Materials\, Inc. ? Bakers Quarry<br />\nMcGee Corporation<br />\nMidway Aerospace<br />\nNatural Family Planning OB/GYN<br />\nPureon</span></font><br />\n<span style="font-family: arial\; font-size: 14px\; text-align: center\;">Record USA</span><br />\n<font face="arial"><span style="font-size: 14px\;">Sanger Heart and Vascular Institute<br />\nUnion County Government<br />\nUnion County Parks and Recreation<br />\nUnion County Water<br />\nUnion County Water<br />\nUnion County Community Action\, Inc.<br />\nVulcan Construction Materials LP Mideast Division - Rockingham Quarry<br />\n<br />\n&nbsp\;<br />\n<u><strong>Million Hours Award</strong></u><br />\n<em>Given to companies which accumulate one million employee hours with no injuries or illnesses involving days away from work.</em></span></font></div>\n\n<div style="text-align: center\;"><br />\n<font face="arial"><span style="font-size: 14px\;">Century Contractors\, Inc.</span></font><br />\n<span style="font-family: arial\; font-size: 14px\; text-align: center\;">Record USA</span><br />\n<font face="arial"><span style="font-size: 14px\;">&nbsp\;<br />\n&nbsp\;</span></font><br />\n&nbsp\;</div>\n
LOCATION:Union County Agricultural Center 3230-D\, Presson Rd. Monroe\, NC 28112
UID:e.391.23236
SEQUENCE:3
DTSTAMP:20260424T213649Z
URL:https://members.unioncountycoc.com/events/details/safety-awards-banquet-23236
END:VEVENT

END:VCALENDAR
