BEGIN:VCALENDAR
VERSION:2.0
PRODID:-//ChamberMaster//Event Calendar 2.0//EN
METHOD:PUBLISH
X-PUBLISHED-TTL:P3D
REFRESH-INTERVAL:P3D
CALSCALE:GREGORIAN
BEGIN:VEVENT
DTSTART:20190602T150000Z
DTEND:20190602T163000Z
X-MICROSOFT-CDO-ALLDAYEVENT:FALSE
SUMMARY:Paraclete Evangelistic Ministries Worship Service
DESCRIPTION:Come Celebrate God's Word With Us!!!\n\n\n\nParaclete Evangelistic Ministries is a Non Denominational Ministry under the Jurisdiction and Direction of the Holy Spirit. Paraclete comes from the Koine Greek word "par kletos". It is the Holy Spirit who consoles\, comforts\, encourages\, and uplifts. He intercedes on our behalf as an Advocate. The word "Paraclete" means "called to one's side".We are a ministry called and commission by the Scripture in the Gospel of Mathew 28:18
X-ALT-DESC;FMTTYPE=text/html:<div style="text-align:left">Come Celebrate God&#39\;s Word With Us!!!<br />\n<br />\nParaclete Evangelistic Ministries is a Non Denominational Ministry under the Jurisdiction and Direction of the Holy Spirit. Paraclete comes from the Koine Greek word &quot\;par&aacute\;kletos&quot\;. It is the Holy Spirit who consoles\, comforts\, encourages\, and uplifts. He intercedes on our behalf as an Advocate. The word &quot\;Paraclete&quot\; means &quot\;called to one&#39\;s side&quot\;.We are a ministry called and commission by the Scripture in the Gospel of Mathew 28:18</div>\n
LOCATION:2740 Gray Fox Rd. Suite D-E Monroe\, NC 28110
UID:e.391.19046
SEQUENCE:3
DTSTAMP:20260422T200808Z
URL:https://members.unioncountycoc.com/events/details/paraclete-evangelistic-ministries-worship-service-06-02-2019-19046
END:VEVENT

END:VCALENDAR
