BEGIN:VCALENDAR
VERSION:2.0
PRODID:-//ChamberMaster//Event Calendar 2.0//EN
METHOD:PUBLISH
X-PUBLISHED-TTL:P3D
REFRESH-INTERVAL:P3D
CALSCALE:GREGORIAN
BEGIN:VEVENT
DTSTART:20260502T160000Z
DTEND:20260502T210000Z
X-MICROSOFT-CDO-ALLDAYEVENT:FALSE
SUMMARY:Our first birthday!
DESCRIPTION:Our distillery has been open for a year! Come celebrate with us!\n\nFood truck 12-3\, games\, giveaways\, and new craft cocktails!
X-ALT-DESC;FMTTYPE=text/html:Our distillery has been open for a year! Come celebrate with us!<br />\nFood truck 12-3\, games\, giveaways\, and new craft cocktails!
LOCATION:430 Crow St. Monroe\, NC 28112
UID:e.391.23839
SEQUENCE:3
DTSTAMP:20260422T235114Z
URL:https://members.unioncountycoc.com/events/details/our-first-birthday-23839
END:VEVENT

END:VCALENDAR
