BEGIN:VCALENDAR
VERSION:2.0
PRODID:-//ChamberMaster//Event Calendar 2.0//EN
METHOD:PUBLISH
X-PUBLISHED-TTL:P3D
REFRESH-INTERVAL:P3D
CALSCALE:GREGORIAN
BEGIN:VEVENT
DTSTART:20191003T190000Z
DTEND:20191003T220000Z
X-MICROSOFT-CDO-ALLDAYEVENT:FALSE
SUMMARY:Make it in Union County - Manufacturing Awareness Showcase October 3\, 2019
DESCRIPTION:An opportunity for Chamber Members\, high school students\, parents\, teachers\, counselors and the general public to learn about manufacturing and to network with the manufacturers located in Union County.
X-ALT-DESC;FMTTYPE=text/html:An opportunity for Chamber Members\, high school students\, parents\, teachers\, counselors and&nbsp\;the general public to learn about manufacturing and to network with the manufacturers located in Union County.&nbsp\;
LOCATION:South Piedmont Community College 4209 Old Charlotte Hwy\, Salon A & B Monroe NC 28110
UID:e.391.17509
SEQUENCE:3
DTSTAMP:20260425T150108Z
URL:https://members.unioncountycoc.com/events/details/make-it-in-union-county-manufacturing-awareness-showcase-october-3-2019-17509
END:VEVENT

END:VCALENDAR
