BEGIN:VCALENDAR
VERSION:2.0
PRODID:-//ChamberMaster//Event Calendar 2.0//EN
METHOD:PUBLISH
X-PUBLISHED-TTL:P3D
REFRESH-INTERVAL:P3D
CALSCALE:GREGORIAN
BEGIN:VEVENT
DTSTART:20260506T120000Z
DTEND:20260506T170000Z
X-MICROSOFT-CDO-ALLDAYEVENT:FALSE
SUMMARY:Local Hiring Event at Amcor
DESCRIPTION:Amcor is hosting an on-site hiring event at their Charlotte (Monroe) plant. This event provides an opportunity for job seekers to learn more about career openings\, meet with the Amcor team\, and explore employment opportunities with a global manufacturing leader. Interested candidates are encouraged to attend and apply in person.
X-ALT-DESC;FMTTYPE=text/html:<div style="font-family: &quot\;Segoe UI&quot\;\; font-size: 14px\; line-height: 20px\;">Amcor is hosting an on-site hiring event at their Charlotte (Monroe) plant. This event provides an opportunity for job seekers to learn more about career openings\, meet with the Amcor team\, and explore employment opportunities with a global manufacturing leader. Interested candidates are encouraged to attend and apply in person.</div>\n
LOCATION:Amcor 3414 Wesley Chapel Stouts Monroe\, NC 28110
UID:e.391.23838
SEQUENCE:3
DTSTAMP:20260422T171722Z
URL:https://members.unioncountycoc.com/events/details/local-hiring-event-at-amcor-23838
END:VEVENT

END:VCALENDAR
