BEGIN:VCALENDAR
VERSION:2.0
PRODID:-//ChamberMaster//Event Calendar 2.0//EN
METHOD:PUBLISH
X-PUBLISHED-TTL:P3D
REFRESH-INTERVAL:P3D
CALSCALE:GREGORIAN
BEGIN:VEVENT
DTSTART:20260219T141500Z
DTEND:20260219T170000Z
X-MICROSOFT-CDO-ALLDAYEVENT:FALSE
SUMMARY:Level Up Business Accelerator Program
DESCRIPTION:Calling all existing business owners. Are you looking to take your business to the next level? The Level Up program is designed to help you develop a growth strategy to lead to increased revenues and job creation through targeted training and coaching.\n\nIs this Program for You?\n\nOur ideal candidates will meet the below eligibility requirements and are ready to work on their business and not just in their business! This program is for:\n\n\n	Owners and CEOs of small businesses operating in Anson and Union counties\n	Businesses that have been operating for at least 2 years\n	Businesses with one other employee besides the owner\n	Businesses with $150\,000+ in annual revenue\n	Those committed to growing their business\, actively participating and can adhere to the program attendance policy\n\n\nProgram Schedule:\n\nThe program kickoff session on January 9 will meet from 9:15 - 11:15 am all other sessions will meet from 9:15 am   12 pm at the Tyson Center\, 3509 Old Charlotte Hwy\, Monroe\, NC 28110 in room 1407.\n\n\n	January 8\, 15\, 22\, 29\n	February 5\, 12\, 19\, 26\n	March 5\, 19
X-ALT-DESC;FMTTYPE=text/html:<p>Calling all existing business owners. Are you looking to take your business to the next level? The Level Up program is designed to help you develop a growth strategy to lead to increased revenues and job creation through targeted training and coaching.</p>\n\n<h3><strong>Is this Program for You?</strong></h3>\n\n<p>Our ideal candidates will meet the below eligibility requirements and are ready to work on their business and not just in their business! This program is for:</p>\n\n<ul>\n	<li>Owners and CEOs of small businesses operating in Anson and Union counties</li>\n	<li>Businesses that have been operating for at least 2 years</li>\n	<li>Businesses with one other employee besides the owner</li>\n	<li>Businesses with $150\,000+ in annual revenue</li>\n	<li>Those committed to growing their business\, actively participating and can adhere to the program attendance policy</li>\n</ul>\n\n<h3><strong>Program Schedule:</strong></h3>\n\n<p>The program kickoff session on January 9 will meet from 9:15 - 11:15 am&nbsp\;all other sessions will meet from 9:15 am &ndash\; 12 pm at the&nbsp\;Tyson Center\, 3509 Old Charlotte Hwy\, Monroe\, NC 28110 in room 1407.</p>\n\n<ul>\n	<li>January 8\, 15\, 22\, 29</li>\n	<li>February 5\, 12\, 19\, 26</li>\n	<li>March 5\, 19</li>\n</ul>\n
LOCATION:South Piedmont Community College\, Tyson Center\, 3509 Old Charlotte Hwy.\, Monroe\, NC 28110
UID:e.391.23719
SEQUENCE:3
DTSTAMP:20260423T175314Z
URL:https://members.unioncountycoc.com/events/details/level-up-business-accelerator-program-02-19-2026-23719
END:VEVENT

END:VCALENDAR
