BEGIN:VCALENDAR
VERSION:2.0
PRODID:-//ChamberMaster//Event Calendar 2.0//EN
METHOD:PUBLISH
X-PUBLISHED-TTL:P3D
REFRESH-INTERVAL:P3D
CALSCALE:GREGORIAN
BEGIN:VEVENT
DTSTART:20191107T163000Z
DTEND:20191107T180000Z
X-MICROSOFT-CDO-ALLDAYEVENT:FALSE
SUMMARY:Let's Do Lunch - Mario's Italian Restaurant
DESCRIPTION:Come enjoy a delicious Italian lunch at the Union County Chamber's Let's Do Lunch event at Mario's Italian Restaurant in November!\n\n\n\nMario's Italian Restaurant offers a great selection of authentic and traditional Italian dishes including their famous New York pizza\, which is known throughout New York\, New Jersey\, and Connecticut. With more than 70 years of combined experience\, they pride themselves on the quality of their meals and excellent customer service.\n\n\n\nThis event is an opportunity for YOU to join us in supporting a local Chamber Member\, make some new connections\, and enjoy a fabulous lunch with no strings attached.  This is just about making connections and having a good time!  We hope to see you there!
X-ALT-DESC;FMTTYPE=text/html:<span style="font-size:14px\;"><span style="font-family:arial\;"><span background-color:="" font-size:="" open="" style="color: rgb(22\, 22\, 22)\; font-family: ">Come enjoy a delicious Italian lunch at the Union County Chamber&#39\;s Let&#39\;s Do Lunch event at Mario&#39\;s Italian Restaurant in November!<br />\n<br />\nMario&rsquo\;s Italian Restaurant offers a great selection of authentic and traditional Italian dishes including their famous New York pizza\, which is known throughout New York\, New Jersey\, and Connecticut. With more than 70 years of combined experience\, they pride themselves on the quality of their meals and excellent customer service.</span><br />\n<br />\n<span style="color: rgb(51\, 51\, 51)\; background-color: rgb(255\, 255\, 255)\;">This event is&nbsp\;an opportunity for YOU to join us in supporting a local Chamber Member\, make some new connections\, and enjoy a fabulous lunch with no strings attached.&nbsp\; This is just about making connections and having a good time! &nbsp\;We hope to see you there!</span></span></span>
LOCATION:2945 Matthews Weddington Road Matthews\, NC 28104
UID:e.391.17560
SEQUENCE:3
DTSTAMP:20260420T060441Z
URL:https://members.unioncountycoc.com/events/details/let-s-do-lunch-mario-s-italian-restaurant-11-07-2019-17560
END:VEVENT

END:VCALENDAR
