BEGIN:VCALENDAR
VERSION:2.0
PRODID:-//ChamberMaster//Event Calendar 2.0//EN
METHOD:PUBLISH
X-PUBLISHED-TTL:P3D
REFRESH-INTERVAL:P3D
CALSCALE:GREGORIAN
BEGIN:VEVENT
DTSTART:20190730T140000Z
DTEND:20190730T160000Z
X-MICROSOFT-CDO-ALLDAYEVENT:FALSE
SUMMARY:July Pop-by Workshop!
DESCRIPTION:You are invited to join Atlantic Bay Mortgage Group  for a Pop-By workshop to learn how to make the most of this business development opportunity!\n\nWhat is a Pop-By? \n\nPop-Bys are small tokens of appreciation that help you establish connections with clients and industry professionals.\n\nBecause they're designed to be dropped off in person\, they're a friendly\, quick way to strengthen relationships and help build your business.\n\nWhat to Expect at a Pop-By Workshop: \n\nWe will walk you through each step of creating a Pop-By\, from brainstorming and designing your tags\, to assembling it all together. Feel free to stop by any time during the workshop timeframe to create your own Pop-bys.\n\nPop-by card themes include the following: \n\nSummer\, National Ice Cream Day\, Back to School\, Dog and a few great options for year round!\n\nHelpful Hints: \n\nBefore you attend a workshop\, we suggest making a list of clients and industry professionals you plan to visit this quarter\, so that you can plan ahead. It's also a good idea to make sure you have updated business cards to bring with you to each visit.\n\nLight snacks and refreshments will be provided!
X-ALT-DESC;FMTTYPE=text/html:<p>You are invited to join Atlantic Bay Mortgage Group&reg\; for a Pop-By workshop to learn how to make the most of this business development opportunity!</p>\n\n<p><strong>What is a Pop-By?&nbsp\;</strong><br />\nPop-Bys are small tokens of appreciation that help you establish connections with clients and industry professionals.</p>\n\n<p>Because they&rsquo\;re designed to be dropped off in person\, they&rsquo\;re a friendly\, quick way to strengthen relationships and help build your business.</p>\n\n<p><strong>What to Expect at a Pop-By Workshop:</strong>&nbsp\;<br />\nWe will walk you through each step of creating a Pop-By\, from brainstorming and designing your tags\, to assembling it all together. Feel free to stop by any time during the workshop timeframe to create your own Pop-bys.</p>\n\n<p><strong>Pop-by card themes include the following:</strong>&nbsp\;<br />\nSummer\, National Ice Cream Day\, Back to School\, Dog and a few great options for year round!</p>\n\n<p><strong>Helpful Hints:</strong>&nbsp\;<br />\nBefore you attend a workshop\, we suggest making a list of clients and industry professionals you plan to visit this quarter\, so that you can plan ahead. It&rsquo\;s also a good idea to make sure you have updated business cards to bring with you to each visit.</p>\n\n<p>Light snacks and refreshments will be provided!<br />\n&nbsp\;</p>\n
LOCATION:Atlantic Bay Mortgage Group 3430 Toringdon Way Suite 101 Charlotte\, NC 28277
UID:e.391.20451
SEQUENCE:3
DTSTAMP:20260424T044815Z
URL:https://members.unioncountycoc.com/events/details/july-pop-by-workshop-20451
END:VEVENT

END:VCALENDAR
