BEGIN:VCALENDAR
VERSION:2.0
PRODID:-//ChamberMaster//Event Calendar 2.0//EN
METHOD:PUBLISH
X-PUBLISHED-TTL:P3D
REFRESH-INTERVAL:P3D
CALSCALE:GREGORIAN
BEGIN:VEVENT
DTSTART:20260604T150000Z
DTEND:20260604T153000Z
X-MICROSOFT-CDO-ALLDAYEVENT:FALSE
SUMMARY:Integrated Massage for Every Body - Relocation Ribbon Cutting
DESCRIPTION:You're Invited to the Integrated Massage for Every Body\n\nRelocation Ribbon Cutting!\n\n \n\nThursday\, June 4th\, 2026\n\n11 a.m.\n\n\n\n\n\nJoin YOUR Union County Chamber of Commerce in celebrating Integrated Massage for EveryBody and owner Carolyn Kallgren\, L.M.B.T.\, on their relocation to a quieter\, hidden gem in Mint Hill. With a clinical approach and a passion for holistic healing\, Carolyn provides personalized massage therapy that supports recovery\, stress relief\, and overall wellness for both people and their pets. Guests can enjoy light refreshments and enter for a chance to win a 60-minute massage during the celebration.\n\n\n\nThe practice is located behind the Food Lion in the brick building\, with parking available along the entrance driveway.\n\n\n\n\n\n\n\n\n \n\n\n\nThere will be refreshments and a giveaway!
X-ALT-DESC;FMTTYPE=text/html:<div style="color: rgb(51\, 51\, 51)\; font-family: sans-serif\, Arial\, Verdana\, &quot\;Trebuchet MS&quot\;\; font-size: 13px\; text-align: center\;"><span style="box-sizing: border-box\; border: 0px\; margin: 0px\; padding: 0px\; color: rgb(243\, 108\, 59)\;"><span style="box-sizing: border-box\; border: 0px\; margin: 0px\; padding: 0px\; font-size: 20px\;"><span style="box-sizing: border-box\; border: 0px\; margin: 0px\; padding: 0px\; font-weight: bolder\;">You&#39\;re Invited to the Integrated Massage for Every Body<br />\nRelocation Ribbon Cutting</span></span></span><span style="color: rgb(243\, 108\, 59)\; font-size: 20px\; font-weight: bolder\;">!</span><br />\n&nbsp\;</div>\n\n<div style="box-sizing: border-box\; border: 0px\; margin: 0px\; padding: 0px\; line-height: normal\; color: rgb(68\, 68\, 68)\; font-family: Arial\, Helvetica\, sans-serif\; font-size: 14px\; text-align: center\;"><span style="box-sizing: border-box\; border: 0px\; margin: 0px\; padding: 0px\; font-size: 18px\;">Thursday</span><span style="box-sizing: border-box\; border: 0px\; margin: 0px\; padding: 0px\; font-size: 18px\;">\, June 4th\,&nbsp\;2026</span></div>\n\n<div style="box-sizing: border-box\; border: 0px\; margin: 0px\; padding: 0px\; line-height: normal\; color: rgb(68\, 68\, 68)\; font-family: Arial\, Helvetica\, sans-serif\; font-size: 14px\; text-align: center\;"><span style="box-sizing: border-box\; border: 0px\; margin: 0px\; padding: 0px\; font-size: 18px\;">11 a.m.</span>\n\n<div class="flex max-w-full flex-col gap-4 grow">\n<div class="min-h-8 text-message relative flex w-full flex-col items-end gap-2 text-start break-words whitespace-normal outline-none keyboard-focused:focus-ring [.text-message+&amp\;]:mt-1" data-message-author-role="assistant" data-message-id="7074a33c-f14e-4a1b-8b4e-fbd900b7b4d7" data-message-model-slug="gpt-5-3" data-turn-start-message="true" dir="auto" tabindex="0">\n<div class="flex w-full flex-col gap-1 empty:hidden">\n<div class="markdown prose dark:prose-invert w-full wrap-break-word light markdown-new-styling">\n<p data-end="616" data-is-last-node="" data-is-only-node="" data-start="0">Join YOUR Union County Chamber of Commerce in celebrating Integrated Massage for EveryBody and owner Carolyn Kallgren\, L.M.B.T.\, on their relocation to a quieter\, hidden gem in Mint Hill. With a clinical approach and a passion for holistic healing\, Carolyn provides personalized massage therapy that supports recovery\, stress relief\, and overall wellness for both people and their pets. Guests can enjoy light refreshments and enter for a chance to win a 60-minute massage during the celebration.<br />\n<br />\nThe practice is located behind the Food Lion in the brick building\, with parking available along the entrance driveway.</p>\n</div>\n</div>\n</div>\n</div>\n\n<div class="mt-3 w-full empty:hidden">\n<div class="text-center">\n<div class="inline-flex border border-gray-100 dark:border-gray-700 rounded-xl">\n<div class="bg-token-main-surface-tertiary w-px flex-1 self-stretch">&nbsp\;</div>\n</div>\n</div>\n</div>\n<span style="color: rgb(243\, 108\, 59)\;"><em><strong>There will be refreshments and a giveaway!</strong></em></span></div>\n
LOCATION:8037 Fairview Rd\, Suite J3 Mint Hill\, NC 28227
UID:e.391.23837
SEQUENCE:3
DTSTAMP:20260426T022430Z
URL:https://members.unioncountycoc.com/events/details/integrated-massage-for-every-body-relocation-ribbon-cutting-23837
END:VEVENT

END:VCALENDAR
