BEGIN:VCALENDAR
VERSION:2.0
PRODID:-//ChamberMaster//Event Calendar 2.0//EN
METHOD:PUBLISH
X-PUBLISHED-TTL:P3D
REFRESH-INTERVAL:P3D
CALSCALE:GREGORIAN
BEGIN:VEVENT
DTSTART:20190808T200000Z
DTEND:20190808T203000Z
X-MICROSOFT-CDO-ALLDAYEVENT:FALSE
SUMMARY:Grand Opening & Ribbon Cutting - Arnold & Smith PLLC
DESCRIPTION:Local attorneys Matthew Arnold and Bradley Smith have opened a new office in Monroe and they would like to invite you to attend their Grand Opening Ribbon Cutting ceremony with the Chamber to help them celebrate!\n\n\n\nAfter our ribbon cutting ceremony\, there will be an open house where you can meet the attorneys and a food truck will be available for a quick bite to eat!\n\nCome meet our newest attorney members in the Chamber and stay for some refreshments!
X-ALT-DESC;FMTTYPE=text/html:<p>Local attorneys Matthew Arnold and Bradley Smith have opened a new office in Monroe and they would like to invite you to attend their Grand Opening Ribbon Cutting ceremony with the Chamber to help them celebrate!<br />\n<br />\nAfter our ribbon cutting ceremony\, there will be an open house where you can meet the attorneys and a food truck will be available for a quick bite to eat!</p>\n\n<p>Come meet our newest attorney members in the Chamber and stay for some refreshments!</p>\n
LOCATION:114 W. Jefferson Street Monroe\, NC 28112
UID:e.391.20424
SEQUENCE:3
DTSTAMP:20260422T003535Z
URL:https://members.unioncountycoc.com/events/details/grand-opening-ribbon-cutting-arnold-smith-pllc-20424
END:VEVENT

END:VCALENDAR
