BEGIN:VCALENDAR
VERSION:2.0
PRODID:-//ChamberMaster//Event Calendar 2.0//EN
METHOD:PUBLISH
X-PUBLISHED-TTL:P3D
REFRESH-INTERVAL:P3D
CALSCALE:GREGORIAN
BEGIN:VEVENT
DTSTART:20220825T123000Z
DTEND:20220825T133000Z
X-MICROSOFT-CDO-ALLDAYEVENT:FALSE
SUMMARY:Chamber Coffee & Connections
DESCRIPTION:Event is Sold Out!\n\n\n\nIndian Trail Town Hall - Cultural Arts Room \n\n \n\nEnter from the front of the building\n\n\n\nJoin your Chamber for an in-person Chamber Coffee & Connections. This is a special opportunity for our members who would like to network with each other. \n\nThere's no program\; just networking\, so bring plenty of business cards!
X-ALT-DESC;FMTTYPE=text/html:<div style="box-sizing: border-box\; border: 0px\; margin: 0px\; padding: 0px\; line-height: normal\; color: rgb(68\, 68\, 68)\; font-family: Arial\, Helvetica\, sans-serif\; font-size: 14px\; text-align: center\;"><span style="color:#00a887\;"><span style="box-sizing: border-box\; border: 0px\; margin: 0px\; padding: 0px\;"><span style="box-sizing: border-box\; border: 0px\; margin: 0px\; padding: 0px\; font-size: 20px\;"><span style="box-sizing: border-box\; border: 0px\; margin: 0px\; padding: 0px\; font-weight: bolder\;">Event is Sold Out!</span></span></span></span><br />\n<br />\n<span style="box-sizing: border-box\; border: 0px\; margin: 0px\; padding: 0px\; color: rgb(243\, 108\, 59)\;"><span style="box-sizing: border-box\; border: 0px\; margin: 0px\; padding: 0px\; font-size: 20px\;"><span style="box-sizing: border-box\; border: 0px\; margin: 0px\; padding: 0px\; font-weight: bolder\;">Indian Trail Town Hall - Cultural Arts Room&nbsp\;</span></span></span><br style="box-sizing: border-box\;" />\n&nbsp\;</div>\n\n<div style="box-sizing: border-box\; border: 0px\; margin: 0px\; padding: 0px\; line-height: normal\; color: rgb(68\, 68\, 68)\; font-family: Arial\, Helvetica\, sans-serif\; text-align: center\;"><em><span style="font-size: 18px\;"><b>Enter from the front of the building</b></span></em></div>\n\n<p><br />\nJoin your Chamber for an in-person&nbsp\;Chamber Coffee &amp\; Connections. This is a special&nbsp\;opportunity for our members who would like to network with each other.&nbsp\;</p>\n\n<p>There&#39\;s no program\; just networking\, so bring plenty of business cards!<br />\n<br />\n&nbsp\;</p>\n
LOCATION:Indian Trail Town Hall Cultural Arts Room (Please enter through the front of the building.) 315 Matthews-Indian Trail Rd. Indian trail\, NC 28079
UID:e.391.22568
SEQUENCE:3
DTSTAMP:20260425T200154Z
URL:https://members.unioncountycoc.com/events/details/chamber-coffee-connections-22568
END:VEVENT

END:VCALENDAR
