BEGIN:VCALENDAR
VERSION:2.0
PRODID:-//ChamberMaster//Event Calendar 2.0//EN
METHOD:PUBLISH
X-PUBLISHED-TTL:P3D
REFRESH-INTERVAL:P3D
CALSCALE:GREGORIAN
BEGIN:VEVENT
DTSTART:20220712T130000Z
DTEND:20220712T133000Z
X-MICROSOFT-CDO-ALLDAYEVENT:FALSE
SUMMARY:Agape Christian Counseling Expansion Ribbon Cutting
DESCRIPTION:You're Invited to Agape Christian Counseling's Expansion Ribbon Cutting Ceremony.\n\n \n\nRibbon Cutting - Tuesday\, July 12\, 2022 \n\n9:00 a.m.\n\n \n\nAgape Christian Counseling has opened its fourth office in Monroe. Agape Christian Counseling is a nonprofit organization that provides professional counseling from a Christian perspective to bring about healing to individuals\, couples\, and families. Christian counseling integrates one's faith with principles of psychology. Agape welcomes everyone who seeks counseling\, regardless of religious beliefs. \n\n\n\nJoin Executive Director Jennifer Sanford and her team to celebrate the opening of their newest location. \n\n\n\nRefreshments will be served following the Ribbon Cutting.
X-ALT-DESC;FMTTYPE=text/html:<div style="box-sizing: border-box\; border: 0px\; margin: 0px\; padding: 0px\; line-height: normal\; color: rgb(68\, 68\, 68)\; font-family: Arial\, Helvetica\, sans-serif\; font-size: 14px\; text-align: center\;"><span style="box-sizing: border-box\; border: 0px\; margin: 0px\; padding: 0px\; color: rgb(243\, 108\, 59)\;"><span style="box-sizing: border-box\; border: 0px\; margin: 0px\; padding: 0px\; font-size: 20px\;"><span style="box-sizing: border-box\; border: 0px\; margin: 0px\; padding: 0px\; font-weight: bolder\;">You&#39\;re Invited to Agape Christian Counseling&#39\;s Expansion&nbsp\;Ribbon Cutting Ceremony.</span></span></span><br style="box-sizing: border-box\;" />\n&nbsp\;</div>\n\n<div style="box-sizing: border-box\; border: 0px\; margin: 0px\; padding: 0px\; line-height: normal\; color: rgb(68\, 68\, 68)\; font-family: Arial\, Helvetica\, sans-serif\; font-size: 14px\; text-align: center\;"><span style="box-sizing: border-box\; border: 0px\; margin: 0px\; padding: 0px\; font-size: 18px\;">Ribbon Cutting - Tuesday\, July 12\, 2022&nbsp\;</span></div>\n\n<div style="box-sizing: border-box\; border: 0px\; margin: 0px\; padding: 0px\; line-height: normal\; outline: 0px\; color: rgb(68\, 68\, 68)\; font-family: Arial\, Helvetica\, sans-serif\; font-size: 14px\; text-align: center\;"><span style="box-sizing: border-box\; border: 0px\; margin: 0px\; padding: 0px\; font-size: 18px\;">9:00 a.m.</span><br />\n&nbsp\;</div>\n\n<div style="box-sizing: border-box\; border: 0px\; margin: 0px\; padding: 0px\; line-height: normal\; outline: 0px\; color: rgb(68\, 68\, 68)\; font-family: Arial\, Helvetica\, sans-serif\; font-size: 14px\;"><span style="color: rgb(68\, 68\, 68)\; font-family: Arial\, Helvetica\, sans-serif\; font-size: 14px\;">Agape Christian Counseling has opened its fourth office in Monroe.&nbsp\;A</span><span style="color: rgb(68\, 68\, 68)\; font-family: Arial\, Helvetica\, sans-serif\; font-size: 14px\; background-color: rgb(255\, 255\, 255)\;">gape Christian Counseling is a nonprofit organization that provides professional counseling from a Christian perspective to bring about healing to individuals\, couples\, and families. Christian counseling integrates one&#39\;s faith with principles of psychology. Agape welcomes everyone who seeks counseling\, regardless of religious beliefs.&nbsp\;</span><br />\n<br />\nJoin Executive Director Jennifer Sanford and her team to celebrate the opening of their newest location.&nbsp\;<br />\n<br style="box-sizing: border-box\; color: rgb(68\, 68\, 68)\; font-family: Arial\, Helvetica\, sans-serif\; font-size: 14px\;" />\n<span style="color: rgb(68\, 68\, 68)\; font-family: Arial\, Helvetica\, sans-serif\; font-size: 14px\;">Refreshments will be served following the Ribbon Cutting.&nbsp\;</span><br style="box-sizing: border-box\; color: rgb(68\, 68\, 68)\; font-family: Arial\, Helvetica\, sans-serif\; font-size: 14px\;" />\n<span style="color: rgb(68\, 68\, 68)\; font-family: Arial\, Helvetica\, sans-serif\; font-size: 14px\;">&nbsp\;</span><span style="box-sizing: border-box\; border: 0px\; margin: 0px\; padding: 0px\; font-size: 18px\;">&nbsp\;</span></div>\n
LOCATION:Agape Christian Counseling 5417 Morgan Mill Rd. Monroe\, NC28110
UID:e.391.22657
SEQUENCE:3
DTSTAMP:20260420T203501Z
URL:https://members.unioncountycoc.com/events/details/agape-christian-counseling-expansion-ribbon-cutting-22657
END:VEVENT

END:VCALENDAR
