BEGIN:VCALENDAR
VERSION:2.0
PRODID:-//ChamberMaster//Event Calendar 2.0//EN
METHOD:PUBLISH
X-PUBLISHED-TTL:P3D
REFRESH-INTERVAL:P3D
CALSCALE:GREGORIAN
BEGIN:VEVENT
DTSTART:20190622T170000Z
DTEND:20190622T220000Z
X-MICROSOFT-CDO-ALLDAYEVENT:FALSE
SUMMARY:3rd Annual Pints for a Purpose
DESCRIPTION:Cheers to charity!\n\n\n\nAtlantic Bay Mortgage Group invites you to join us at Lenny Boy Brewing Co. from 1 to 6 p.m. on June 22nd for  our fundraiser to benefit Project2Heal. Project2Heal's mission is to nurture and train Labrador retrievers to provide healing for those with physical and emotional challenges. It can take up to three years and tens of thousands of dollars to get a life-changing service dog into the hands of a disabled veteran or special-needs child. Atlantic Bay is committed to doing everything we can to help Project2Heal reduce both the time and cost it takes to get a service dog to those who need it most. Lenny Boy will donate $1 per a select pint sold from 1 to 6 p.m.\, and we want you to be a part of the solution!\n\n\n\nJoin us for cold beer\, good food\, and live music   and don't forget about the Project2Heal pups that will be on site!\n\n\n\nThis event is open to the public and admission is free. Sponsorships are available\; please email CharlotteBD@atlanticbay.com for more information.
X-ALT-DESC;FMTTYPE=text/html:<strong>Cheers to charity!</strong><br />\n<br />\nAtlantic Bay Mortgage Group invites you to join us at Lenny Boy Brewing Co. from 1 to 6 p.m. on June 22nd for&nbsp\; our fundraiser to benefit Project2Heal. Project2Heal&rsquo\;s mission is to nurture and train Labrador retrievers to provide healing for those with physical and emotional challenges. It can take up to three years and tens of thousands of dollars to get a life-changing service dog into the hands of a disabled veteran or special-needs child. Atlantic Bay is committed to doing everything we can to help Project2Heal reduce both the time and cost it takes to get a service dog to those who need it most. Lenny Boy will donate $1 per a select pint sold from 1 to 6 p.m.\, and we want&nbsp\;<strong>you</strong>&nbsp\;to be a part of the solution!<br />\n<br />\n<strong>Join us for cold beer\, good food\, and live music &mdash\;&nbsp\;and don&#39\;t forget about the Project2Heal pups that will be on site!</strong><br />\n<br />\nThis event is open to the public and admission is free. Sponsorships are available\; please email CharlotteBD@atlanticbay.com for more information.&nbsp\;
LOCATION:Lenny Boy Brewing Co. 3000 South Tryon Street Charlotte\, NC 28217
UID:e.391.20273
SEQUENCE:3
DTSTAMP:20260419T152939Z
URL:https://members.unioncountycoc.com/events/details/3rd-annual-pints-for-a-purpose-20273
END:VEVENT

END:VCALENDAR
