BEGIN:VCALENDAR
VERSION:2.0
PRODID:-//ChamberMaster//Event Calendar 2.0//EN
METHOD:PUBLISH
X-PUBLISHED-TTL:P3D
REFRESH-INTERVAL:P3D
CALSCALE:GREGORIAN
BEGIN:VEVENT
DTSTART:20260625T150000Z
DTEND:20260625T170000Z
X-MICROSOFT-CDO-ALLDAYEVENT:FALSE
SUMMARY:2026 Safety Awards Banquet
DESCRIPTION:Join us on Thursday\, June 25th\, 2026\, as we celebrate with the 2025 Safety Awards Recipients at our Annual Safety Awards Luncheon. \n\n\nNetwork with fellow Chamber members and guests. Awards are bestowed in three categories:  Silver\, Gold\, and Million Hours Safety Awards.
X-ALT-DESC;FMTTYPE=text/html:<h2 style="font-style: italic\; text-align: center\;"><font face="arial" style="font-size: 13px\;"><span style="font-size: 14px\;">Join us on </span></font><b style="font-family: arial\; font-size: 14px\;">Thursday\, June 25t</b><font face="arial" style="font-size: 13px\;"><span style="font-size: 14px\;"><b>h\,</b></span><b style="font-size: 14px\;">&nbsp\;2026\,</b></font><b style="font-family: arial\; font-size: 14px\;">&nbsp\;</b><font face="arial" style="font-size: 13px\;"><span style="font-size: 14px\;">as we celebrate with the</span></font><span style="font-family: arial\; font-size: 14px\; color: rgb(0\, 0\, 255)\;"> </span><span style="font-family: arial\; font-size: 14px\; color: rgb(255\, 0\, 0)\;"><strong>2025 Safety Awards Recipients</strong> </span><font face="arial" style="font-size: 13px\;"><span style="font-size: 14px\;">at our </span></font><strong style="font-family: arial\; font-size: 14px\;">Annual Safety Awards Luncheon</strong><font face="arial" style="font-size: 13px\;"><span style="font-size: 14px\;">.&nbsp\;</span></font></h2>\n<br />\n<font face="arial"><span style="font-size: 14px\;">Network with fellow Chamber members and guests. Awards are bestowed in three categories: &nbsp\;Silver\, Gold\, and Million Hours Safety Awards.</span></font><br />\n&nbsp\;\n<div style="text-align: center\;"><br />\n&nbsp\;</div>\n
LOCATION:Union County Agricultural Center 3230-D\, Presson Rd. Monroe\, NC 28112
UID:e.391.23751
SEQUENCE:3
DTSTAMP:20260419T121022Z
URL:https://members.unioncountycoc.com/events/details/2026-safety-awards-banquet-23751
END:VEVENT

END:VCALENDAR
