BEGIN:VCALENDAR
VERSION:2.0
PRODID:-//ChamberMaster//Event Calendar 2.0//EN
METHOD:PUBLISH
X-PUBLISHED-TTL:P3D
REFRESH-INTERVAL:P3D
CALSCALE:GREGORIAN
BEGIN:VEVENT
DTSTART:20260416T150000Z
DTEND:20260416T220000Z
X-MICROSOFT-CDO-ALLDAYEVENT:FALSE
SUMMARY:2026 Annual Golf Classic
DESCRIPTION:SOLD OUT!\n\nAll teams and sponsorship opportunities for our Golf Tournament have been fully sold.\n\nWe extend a thank you to all of our sponsors and participants for your generous support. Your involvement helps make this event a great success\, and we are grateful!\n\n\n\n\n\n\nLooking to connect with business leaders and enjoy a fun day in the Carolina sunshine?  There are several sponsorship and advertising opportunities to promote your business in a fun and casual setting.\n\n\n\nThe Union County Chamber invites you to play\, sponsor\, and WIN BIG at this year's Annual Golf Classic\n\n \n \n\nCall the Chamber at 704-289-4567 or email info@unioncountycoc.com to learn more or sign up!
X-ALT-DESC;FMTTYPE=text/html:<div font-size:="" line-height:="" segoe="" style="font-family: ">\n<h3 style="text-align: center\;"><strong><span style="font-size:26px\;">&#127881\;</span> <span style="color:#cc0033\;"><span style="font-size:24px\;">SOLD OUT!</span></span></strong></h3>\n\n<p style="text-align: center\;"><span style="font-size:16px\;">All teams and sponsorship opportunities for our Golf Tournament have been fully sold.</span></p>\n\n<p style="text-align: center\;"><span style="font-size:16px\;">We extend a <strong>thank you to all of our sponsors and participants</strong> for your generous support. Your involvement helps make this event a great success\, and we are grateful!</span></p>\n</div>\n\n<h2 style="font-style: italic\; text-align: center\;"><br />\n<br />\n<span style="font-size: 16px\; color: rgb(0\, 0\, 0)\;">Looking to&nbsp\;connect&nbsp\;with business leaders and enjoy a fun day in the Carolina sunshine?&nbsp\; There are several sponsorship and advertising opportunities&nbsp\;to promote your business in a fun and casual setting.</span></h2>\n\n<div style="color: rgb(54\, 73\, 95)\; font-family: Arial\, Verdana\, Helvetica\, sans-serif\; font-size: 14px\;"><br />\n<span style="color: rgb(0\, 0\, 0)\;"><strong><span style="font-size: 12pt\;">The Union County Chamber&nbsp\;invites you to play\, sponsor\, and WIN BIG at this year&#39\;s Annual Golf Classic</span></strong></span><br style="font-family: Roboto\, sans-serif\;" />\n&nbsp\;</div>\n&nbsp\;\n\n<div font-size:="" style="color: rgb(51\, 51\, 51)\; text-align: center\;" text-align:="" trebuchet=""><strong style="font-family: arial\; font-size: 16px\;"><span style="color: rgb(255\, 102\, 51)\;">Call the Chamber at 704-289-4567 or email&nbsp\;<a href="mailto:info@unioncountycoc.com?subject=Golf%20Classic%20Information">info@unioncountycoc.com</a>&nbsp\;to learn more or sign up!</span></strong></div>\n\n<div>&nbsp\;</div>\n
LOCATION:Rolling Hills Country Club 2722 W Roosevelt Blvd Monroe\, NC 28110
UID:e.391.23666
SEQUENCE:3
DTSTAMP:20260426T022747Z
URL:https://members.unioncountycoc.com/events/details/2026-annual-golf-classic-23666
END:VEVENT

END:VCALENDAR
