BEGIN:VCALENDAR
VERSION:2.0
PRODID:-//ChamberMaster//Event Calendar 2.0//EN
METHOD:PUBLISH
X-PUBLISHED-TTL:P3D
REFRESH-INTERVAL:P3D
CALSCALE:GREGORIAN
BEGIN:VEVENT
DTSTART:20241205T223000Z
DTEND:20241206T013000Z
X-MICROSOFT-CDO-ALLDAYEVENT:FALSE
SUMMARY:2024 Annual Awards Gala
DESCRIPTION:SOLD OUT!\n\n\n\nDon't miss the largest Chamber event of the year.\n\n\n\nTHURSDAY\, DECEMBER 5\, 2024\n\nDoors open at 5:30 PM  - Buffet dinner begins at 6:15 PM\n\nUnion County Agricultural Center\, 3230 Presson Road\, Monroe\n\n\n\n\n\nThe most anticipated event of the year\, the Chamber's Annual Awards Gala includes networking with business and community leaders as well as dinner.  During this celebratory event\, the Chamber will recognize members who have volunteered throughout the year\, present its annual Excellence in Business Awards\, and present its prestigious Lifetime Achievement Award.  \n\n\n\n2024 Award Finalists\n\n\n\nEmployer of Choice Award Finalists\n\nCouncil on Aging in Union County\n\nSodoma Law Union\n\nUnion County Public Schools\n\n\n\nExcellence in Business Award Finalists\n\nATI Specialty Materials\n\nLudwig Industries\, Div of Conn-Selmer\n\nWindsor Windows & Doors\n\n\n\nExcellence in Small Business Award Finalists\n\nAlpha-Lit\n\nMandi's Tree Care\n\nLegacy Movement Financial Services\n\n\n\nNonprofit Innovation Award Finalists\n\nCameron's House of Hope\n\nDelta Sigma Theta Sorority - Union County Alumnae Chapter\n\nHumane Society of Union County\n\n\n\nRising Star Award Finalists\n\nCamp Sutton Nursery\n\nFlooring Clearance Center\n\nThe Little Gym of Indian Trail\n\n\n\n2024 Community Impact Award Recipient\n\nWOW Supermarket\n\n\n\n2024 Lifetime Achievement Award Honoree\n\nHelen Thomas\n\n(First Citizens Bank\, Retired)\n\n\n\n \n\n \n\nLimited seating is available - reserve your seat today!
X-ALT-DESC;FMTTYPE=text/html:<div style="text-align: center\;"><span style="color:#F36C3B\;"><span style="font-size: 26px\;"><b>SOLD OUT!</b></span><br />\n<br />\n<span style="font-size: 16px\;"><b>Don&#39\;t miss the largest Chamber&nbsp\;event of the year.</b></span></span><br />\n<br />\n<span style="font-size: 14px\;"><span style="font-family: arial\;"><strong>THURSDAY\, DECEMBER 5\, 2024</strong></span></span><br />\n<strong style="color: rgb(51\, 51\, 51)\; font-family: arial\; font-size: 14px\; text-align: center\; background-color: rgb(255\, 255\, 255)\;">Doors open at 5:30 PM&nbsp\; - Buffet&nbsp\;dinner begins at 6:15 PM</strong><br />\n<strong><span style="border:none windowtext 1.0pt\;padding:0in\;background:white\;"><span style="color:#333333\;"><span style="font-family:arial\,sans-serif\;"><span style="font-size:10.5pt\;">Union County Agricultural&nbsp\;Center\, 3230 Presson Road\, Monroe</span></span></span></span></strong><br style="box-sizing:border-box\;" />\n<br />\n<br />\n<span style="font-size: 14px\;"><span style="font-family: arial\;">The most anticipated event of the year\, the Chamber&#39\;s Annual Awards&nbsp\;Gala includes networking with business and community leaders as well as dinner.&nbsp\; During this celebratory event\, the Chamber will recognize members who have volunteered throughout the year\, present its annual Excellence in Business Awards\, and present&nbsp\;its prestigious Lifetime Achievement Award.&nbsp\;&nbsp\;</span></span><br />\n<br />\n<span style="font-size:20px\;"><strong><span style="font-size:24px\;">2024 Award Finalists</span><br />\n<br />\n<span style="font-size:18px\;">Employer of Choice Award Finalists</span></strong><br />\n<span style="font-size:18px\;"><span style="font-size:16px\;">Council on Aging in Union County<br />\nSodoma Law Union<br />\nUnion County Public Schools<br />\n<br />\n<strong><span style="font-size:20px\;">Excellence in Business Award Finalists</span></strong><br />\n<span style="font-size:20px\;"><span style="font-size:16px\;">ATI Specialty Materials<br />\nLudwig Industries\, Div of Conn-Selmer<br />\nWindsor Windows &amp\; Doors<br />\n<br />\n<span style="font-size:20px\;"><strong>Excellence in Small Business Award Finalists</strong><br />\n<span style="font-size:16px\;">Alpha-Lit<br />\nMandi&#39\;s Tree Care<br />\nLegacy Movement Financial Services<br />\n<br />\n<span style="font-size:20px\;"><strong>Nonprofit Innovation Award Finalists</strong><br />\n<span style="font-size:16px\;">Cameron&#39\;s House of Hope<br />\nDelta Sigma Theta Sorority - Union County Alumnae Chapter<br />\nHumane Society of Union County<br />\n<br />\n<strong><span style="font-size:20px\;">Rising Star Award Finalists</span></strong><br />\n<span style="font-size:20px\;"><span style="font-size:16px\;">Camp Sutton Nursery<br />\nFlooring Clearance Center<br />\nThe Little Gym of Indian Trail<br />\n<br />\n<span style="font-size:20px\;"><strong>2024 Community Impact Award Recipient</strong><br />\n<span style="font-size:16px\;">WOW Supermarket</span></span><br />\n<br />\n<span style="font-size:20px\;"><strong>2024 Lifetime Achievement Award Honoree</strong><br />\n<span style="font-size:16px\;">Helen Thomas<br />\n<span style="font-size:14px\;">(First Citizens Bank\, Retired)</span></span></span></span></span></span></span></span></span></span></span></span></span></span><br />\n<br />\n&nbsp\;</div>\n\n<div style="text-align: center\;">&nbsp\;</div>\n\n<div style="text-align: center\;"><strong style="line-height: 25.6px\; font-family: verdana\; font-size: 16px\;"><span style="background-color: rgb(240\, 248\, 255)\;">Limited seating is available - reserve your seat today!</span></strong><br />\n<br />\n&nbsp\;</div>\n
LOCATION:Union County Agricultural Center 3230-D\, Presson Rd Monroe\, NC 28112
UID:e.391.23030
SEQUENCE:3
DTSTAMP:20260425T030146Z
URL:https://members.unioncountycoc.com/events/details/2024-annual-awards-gala-23030
END:VEVENT

END:VCALENDAR
