BEGIN:VCALENDAR
VERSION:2.0
PRODID:-//ChamberMaster//Event Calendar 2.0//EN
METHOD:PUBLISH
X-PUBLISHED-TTL:P3D
REFRESH-INTERVAL:P3D
CALSCALE:GREGORIAN
BEGIN:VEVENT
DTSTART:20231207T223000Z
DTEND:20231208T013000Z
X-MICROSOFT-CDO-ALLDAYEVENT:FALSE
SUMMARY:2023 Annual Awards Gala
DESCRIPTION:REGISTER TODAY!\n\n\n\nDon't miss the largest Chamber event of the year.\n\n\n\nTHURSDAY\, DECEMBER 7\, 2023\n\nDoors open at 5:30 PM  - Buffet dinner begins at 6:15 PM\n\nUnion County Agricultural Center\, 3230 Presson Road\, Monroe\n\n\n\n\n\nThe most anticipated event of the year\, the Chamber's Annual Awards Gala includes networking with business and community leaders as well as dinner.  During this celebratory event\, the Chamber will recognize members who have volunteered throughout the year\, present its annual Excellence in Business Awards\, and present its prestigious Lifetime Achievement Award.  \n\n\n\nCatering by Creative Food Concepts\n\n\n\nAward Finalists:\n\nLifetime Achievement Recipient\nBill Norwood\nExcellence in Small Business Award \n\nFinalists:\n\nClockwork Properties\n\nPeople Outcomes LLC\n\nSeniors Helping Seniors\n\n\nExcellence in Business Award\n\nFinalists:\n\nArnold & Smith PLLC\n\nEdward Jones - Janet North\n\nICON Aerospace\n\n\nNonprofit Innovation Award\n\nFinalists:\n\nAmerican Red Cross\n\nGirls on the Run of Union County\n\nHealthQuest of Union County\nRising Star Award \n\nFinalists:\n\nThe Longleaf Group at EXP Realty\n\nMaidfully\n\nOmega In-Home Services\nCommunity Impact Award\n\nFinalists:\n\nCollins Aerospace Monroe\n\nOscar's Driving School \n\nScott Clark Toyota\n\n\n \n\nLimited seating is available - reserve your seat today!
X-ALT-DESC;FMTTYPE=text/html:<div style="text-align: center\;"><br />\n<span style="color:#F36C3B\;"><span style="font-size: 26px\;"><b>REGISTER TODAY!</b></span><br />\n<br />\n<span style="font-size: 16px\;"><b>Don&#39\;t miss the largest Chamber&nbsp\;event of the year.</b></span></span><br />\n<br />\n<span style="font-size: 14px\;"><span style="font-family: arial\;"><strong>THURSDAY\, DECEMBER 7\, 2023</strong></span></span><br />\n<strong style="color: rgb(51\, 51\, 51)\; font-family: arial\; font-size: 14px\; text-align: center\; background-color: rgb(255\, 255\, 255)\;">Doors open at 5:30 PM&nbsp\; - Buffet&nbsp\;dinner begins at 6:15 PM</strong><br />\n<strong><span style="border:none windowtext 1.0pt\;padding:0in\;background:white\;"><span style="color:#333333\;"><span style="font-family:arial\,sans-serif\;"><span style="font-size:10.5pt\;">Union County Agricultural&nbsp\;Center\, 3230 Presson Road\, Monroe</span></span></span></span></strong><br style="box-sizing:border-box\;" />\n<br />\n<br />\n<span style="font-size: 14px\;"><span style="font-family: arial\;">The most anticipated event of the year\, the Chamber&#39\;s Annual Awards&nbsp\;Gala includes networking with business and community leaders as well as dinner.&nbsp\; During this celebratory event\, the Chamber will recognize members who have volunteered throughout the year\, present its annual Excellence in Business Awards\, and present&nbsp\;its prestigious Lifetime Achievement Award.&nbsp\;&nbsp\;<br />\n<br />\n<em>Catering by Creative Food Concepts</em><br />\n<br />\n<span style="color:#00A887\;"><strong><u>Award Finalists:</u></strong></span></span></span><br />\n<strong style="text-align: center\; color: rgb(0\, 168\, 135)\; font-family: arial\; font-size: 14px\;">Lifetime Achievement Recipient</strong>\n<h2 style="box-sizing: border-box\; border: 0px\; margin: 20px 0px\; padding: 0px\; font-family: Arial\, Helvetica\, sans-serif\; line-height: 24px\; color: rgb(34\, 34\, 34)\; font-size: 20px\; background-color: rgb(255\, 255\, 255)\; text-align: center\;"><span style="box-sizing: border-box\; border: 0px\; margin: 0px\; padding: 0px\; color: rgb(243\, 108\, 59)\;">Bill Norwood</span></h2>\n<span style="font-size: 14px\;"><span style="font-family: arial\;"><span style="color:#00A887\;"><strong>Excellence in&nbsp\;Small Business Award&nbsp\;<br />\n<em><u>Finalists:</u></em></strong></span></span></span>\n\n<h2 style="box-sizing: border-box\; border: 0px\; margin: 20px 0px\; padding: 0px\; font-family: Arial\, Helvetica\, sans-serif\; line-height: 24px\; color: rgb(34\, 34\, 34)\; font-size: 20px\; background-color: rgb(255\, 255\, 255)\; text-align: center\;"><span style="box-sizing: border-box\; border: 0px\; margin: 0px\; padding: 0px\; color: rgb(243\, 108\, 59)\;">Clockwork Properties</span><br style="box-sizing: border-box\;" />\n<span style="box-sizing: border-box\; border: 0px\; margin: 0px\; padding: 0px\; color: rgb(243\, 108\, 59)\;">People Outcomes LLC</span><br style="box-sizing: border-box\;" />\n<span style="box-sizing: border-box\; border: 0px\; margin: 0px\; padding: 0px\; color: rgb(243\, 108\, 59)\;">Seniors Helping Seniors</span></h2>\n</div>\n\n<div style="text-align: center\;"><span style="text-align: center\; font-size: 14px\;"><span style="font-family: arial\;"><span style="color: rgb(0\, 168\, 135)\;"><strong>Excellence in Business Award<br />\n<em><u>Finalists:</u></em></strong></span></span></span>\n\n<h2 style="box-sizing: border-box\; border: 0px\; margin: 20px 0px\; padding: 0px\; font-family: Arial\, Helvetica\, sans-serif\; line-height: 24px\; color: rgb(34\, 34\, 34)\; font-size: 20px\; background-color: rgb(255\, 255\, 255)\; text-align: center\;"><span style="box-sizing: border-box\; border: 0px\; margin: 0px\; padding: 0px\; color: rgb(243\, 108\, 59)\;">Arnold &amp\; Smith PLLC<br style="box-sizing: border-box\;" />\nEdward Jones -&nbsp\;Janet North<br style="box-sizing: border-box\;" />\nICON Aerospace</span></h2>\n</div>\n\n<div style="text-align: center\;"><span style="color:#00a887\;"><strong><span style="font-size:14px\;">Nonprofit Innovation Award<br />\n<u><em>Finalists:</em></u></span></strong></span>\n\n<h2 style="box-sizing: border-box\; border: 0px\; margin: 20px 0px\; padding: 0px\; font-family: Arial\, Helvetica\, sans-serif\; line-height: 24px\; color: rgb(34\, 34\, 34)\; font-size: 20px\; background-color: rgb(255\, 255\, 255)\; text-align: center\;"><span style="box-sizing: border-box\; border: 0px\; margin: 0px\; padding: 0px\; color: rgb(243\, 108\, 59)\;">American Red Cross</span><br style="box-sizing: border-box\;" />\n<span style="box-sizing: border-box\; border: 0px\; margin: 0px\; padding: 0px\; color: rgb(243\, 108\, 59)\;">Girls on the Run of Union County</span><br style="box-sizing: border-box\;" />\n<span style="box-sizing: border-box\; border: 0px\; margin: 0px\; padding: 0px\; color: rgb(243\, 108\, 59)\;">HealthQuest of Union County</span></h2>\n<strong style="color: rgb(0\, 168\, 135)\; font-family: arial\; font-size: 14px\; text-align: center\;">Rising Star Award&nbsp\;<br />\n<u><em>Finalists:</em></u></strong>\n\n<h2 style="box-sizing: border-box\; border: 0px\; margin: 20px 0px\; padding: 0px\; font-family: Arial\, Helvetica\, sans-serif\; line-height: 24px\; color: rgb(34\, 34\, 34)\; font-size: 20px\; background-color: rgb(255\, 255\, 255)\; text-align: center\;"><span style="box-sizing: border-box\; border: 0px\; margin: 0px\; padding: 0px\; color: rgb(243\, 108\, 59)\;">The Longleaf Group at EXP Realty<br style="box-sizing: border-box\;" />\nMaidfully<br style="box-sizing: border-box\;" />\nOmega In-Home Services</span></h2>\n<strong style="text-align: center\; color: rgb(0\, 168\, 135)\;"><span style="font-size: 14px\;">Community Impact Award</span></strong><br />\n<u><em><strong style="text-align: center\; background-color: rgb(255\, 255\, 255)\; color: rgb(0\, 168\, 135)\; font-family: arial\; font-size: 14px\;">Finalists:</strong></em></u>\n\n<h2 style="box-sizing: border-box\; border: 0px\; margin: 20px 0px\; padding: 0px\; font-family: Arial\, Helvetica\, sans-serif\; line-height: 24px\; color: rgb(34\, 34\, 34)\; font-size: 20px\; background-color: rgb(255\, 255\, 255)\; text-align: center\;"><span style="box-sizing: border-box\; border: 0px\; margin: 0px\; padding: 0px\; color: rgb(243\, 108\, 59)\;">Collins Aerospace Monroe<br style="box-sizing: border-box\;" />\nOscar&#39\;s Driving School&nbsp\;<br style="box-sizing: border-box\;" />\nScott Clark Toyota</span></h2>\n</div>\n\n<div style="text-align: center\;">&nbsp\;</div>\n\n<div style="text-align: center\;"><strong style="line-height: 25.6px\; font-family: verdana\; font-size: 16px\;"><span style="background-color: rgb(240\, 248\, 255)\;">Limited seating is available - reserve your seat today!</span></strong></div>\n
LOCATION:Union County Agricultural Center 3230-D\, Presson Rd Monroe\, NC 28112
UID:e.391.22742
SEQUENCE:3
DTSTAMP:20260425T184628Z
URL:https://members.unioncountycoc.com/events/details/2023-annual-awards-gala-22742
END:VEVENT

END:VCALENDAR
