BEGIN:VCALENDAR
VERSION:2.0
PRODID:-//ChamberMaster//Event Calendar 2.0//EN
METHOD:PUBLISH
X-PUBLISHED-TTL:P3D
REFRESH-INTERVAL:P3D
CALSCALE:GREGORIAN
BEGIN:VEVENT
DTSTART:20211202T223000Z
DTEND:20211203T013000Z
X-MICROSOFT-CDO-ALLDAYEVENT:FALSE
SUMMARY:2021 Annual Awards Gala
DESCRIPTION:Event Sold Out!\n\n\n\nDon't miss the largest Chamber event of the year.\n\n\n\nTHURSDAY\, DECEMBER 2\, 2021\n\nDoors open at 5:30 PM  - Buffet dinner begins at 6:15 PM\n\nUnion County Agricultural Center\, 3230 Presson Road\, Monroe\n\n\n\n\n\nThe most anticipated event of the year\, the Chamber's Annual Awards Gala includes networking with business and community leaders as well as dinner.  During this celebratory event\, the Chamber will recognize members who have volunteered throughout the year\, present its annual Excellence in Business Awards\, and present its prestigious Lifetime Achievement Award.  This year's attendance will be limited.\n\nCatering by Mario's Italian Restaurant\n\n\n\n\n\nAwards to be Presented:\n\n\n\n2021 Lifetime Achievement Recipient\n\nDr. Christine Mann Darden\n\n\n\nRising Star Award \n\nFinalists: \n\nEWC Consulting \n\nKeep Evolving Consulting \n\nLeitner Bragg & Griffin\, PLLC\n\n\n\nExcellence in Small Business Award \n\nFinalists: \n\nAdvantaClean of Monroe\n\nHAVEN Creative \n\nNothing Bundt Cakes Marvin/Waxhaw\n\n\n\nExcellence in Business Award\n\nFinalists: \n\nDarnel\, Inc. \n\nDoubleRadius\, Inc.\n\nGeological Resources\, Inc.\n\n\n\nOther award categories include:\n\nEmployer of Choice Award\n\nCommunity Impact Award\n\nNonprofit Innovation Award\n\nAmbassador of the Year Award
X-ALT-DESC;FMTTYPE=text/html:<div style="text-align: center\;"><br />\n<span style="color:#F36C3B\;"><span style="font-size: 26px\;"><b>Event Sold Out!</b></span><br />\n<br />\n<span style="font-size: 16px\;"><b>Don&#39\;t miss the largest Chamber&nbsp\;event of the year.</b></span></span><br />\n<br />\n<span style="font-size: 14px\;"><span style="font-family: arial\;"><strong>THURSDAY\, DECEMBER 2\, 2021</strong></span></span><br />\n<strong style="color: rgb(51\, 51\, 51)\; font-family: arial\; font-size: 14px\; text-align: center\; background-color: rgb(255\, 255\, 255)\;">Doors open at 5:30 PM&nbsp\; - Buffet&nbsp\;dinner begins at 6:15 PM</strong><br />\n<strong><span style="border:none windowtext 1.0pt\;padding:0in\;background:white\;"><span style="color:#333333\;"><span style="font-family:arial\,sans-serif\;"><span style="font-size:10.5pt\;">Union County Agricultural&nbsp\;Center\, 3230 Presson Road\, Monroe</span></span></span></span></strong><br style="box-sizing:border-box\;" />\n<br />\n<br />\n<span style="font-size: 14px\;"><span style="font-family: arial\;">The most anticipated event of the year\, the Chamber&#39\;s Annual Awards&nbsp\;Gala includes networking with business and community leaders as well as dinner.&nbsp\; During this celebratory event\, the Chamber will recognize members who have volunteered throughout the year\, present its annual Excellence in Business Awards\, and present&nbsp\;its prestigious Lifetime Achievement Award.&nbsp\; This year&#39\;s attendance will be limited.<br />\n<em>Catering by Mario&#39\;s Italian Restaurant</em><br />\n<br />\n<br />\n<span style="color:#00A887\;"><strong><u>Awards to be Presented:</u></strong></span><br />\n<br />\n<span style="color:#00A887\;"><strong>2021&nbsp\;Lifetime Achievement Recipient</strong></span><br />\n<strong>Dr. Christine Mann Darden</strong><br />\n<br />\n<span style="color:#00A887\;"><strong>Rising Star Award&nbsp\;</strong></span><br />\n<strong>Finalists:&nbsp\;<br />\nEWC Consulting&nbsp\;<br />\nKeep Evolving Consulting&nbsp\;<br />\nLeitner Bragg &amp\; Griffin\, PLLC</strong><br />\n<br />\n<span style="color:#00A887\;"><strong>Excellence in&nbsp\;Small Business Award&nbsp\;</strong></span><br />\n<strong>Finalists:&nbsp\;<br />\nAdvantaClean of Monroe<br />\nHAVEN Creative&nbsp\;<br />\nNothing Bundt Cakes Marvin/Waxhaw</strong></span></span></div>\n\n<div style="text-align: center\;"><br />\n<span style="text-align: center\; font-size: 14px\;"><span style="font-family: arial\;"><span style="color: rgb(0\, 168\, 135)\;"><strong>Excellence in Business Award</strong></span></span></span><br />\n<strong style="color: rgb(51\, 51\, 51)\; font-family: arial\; font-size: 14px\; text-align: center\; background-color: rgb(255\, 255\, 255)\;">Finalists:&nbsp\;<br />\nDarnel\, Inc.&nbsp\;<br />\nDoubleRadius\, Inc.<br />\nGeological Resources\, Inc.</strong><br />\n<br />\n<span style="text-align: center\; font-size: 14px\;"><span style="font-family: arial\;"><strong>Other award categories include:</strong><br />\n<span style="color: rgb(0\, 168\, 135)\;"><strong>Employer of Choice Award<br />\nCommunity Impact Award<br />\nNonprofit Innovation Award<br />\nAmbassador of the Year Award</strong></span></span></span><br />\n<br />\n&nbsp\;</div>\n\n<div style="text-align: center\;">&nbsp\;</div>\n
LOCATION:Union County Agricultural Center 3230-D\, Presson Rd Monroe\, NC 28112
UID:e.391.21970
SEQUENCE:3
DTSTAMP:20260423T003509Z
URL:https://members.unioncountycoc.com/events/details/2021-annual-awards-gala-21970
END:VEVENT

END:VCALENDAR
