BEGIN:VCALENDAR
VERSION:2.0
PRODID:-//ChamberMaster//Event Calendar 2.0//EN
METHOD:PUBLISH
X-PUBLISHED-TTL:P3D
REFRESH-INTERVAL:P3D
CALSCALE:GREGORIAN
BEGIN:VEVENT
DTSTART:20170511T153000Z
DTEND:20170511T173000Z
X-MICROSOFT-CDO-ALLDAYEVENT:FALSE
SUMMARY:2017 Safety Awards Banquet
DESCRIPTION:Join us on Thursday\, May 11\, 2017 as we celebrate with the 2017 Safety Awards Recipients at our Annual Safety Awards Luncheon.  Network with fellow Chamber members and guests and meet North Carolina Department of Labor Commissioner\, Cherie Berry.  Awards are bestowed in three categories:  Silver\, Gold\, and Million Hours Safety Awards.\n\n \n\nUnion County Safety Awards Banquet\n\nMay 11\, 2017\n\n \n\nSilver Awards\n\nCriteria: Rate of days away from work must be at least 50% below the industry average.\n\n\n\nFirst Year\n\nPilgrim's Corporation\, Feed Mill\n\nUnion County\, Public Works\n\nUnion County Community Action\, Faison and Morven Facilities\n\n \n\nSecond Consecutive Year\n\nAFL Telecommunications\, Enterprise - Monroe\n\n\n\nGold Awards\n\nCriteria: Rate of Days Away From Work\, Job Transfer Or Restriction Must Be At Least 50% Below The Industry Average.\n\n\n\nFirst Year\n\nAFL Telecommunications\, OSPE - Monroe\n\nATI Specialty Materials\, Bakers Powder Operations\n\nBirch Brothers Southern\, Inc.\n\nCarolinas Healthcare System\, Urgent Care - Monroe\n\nCentury Contractors\, Inc.\n\nCharlotte Pipe & Foundry\, Plastics Division\n\nCity of Monroe \n\nFirst Cut Design & Fabrication\n\nHarris Teeter\, Indian Trail - Support\n\nOro Manufacturing Company\n\nPiedmont Natural Gas\, Indian Trail Resource Center\n\nPilgrim's Corporation\, Hatchery\n\nPilgrim's Corporation\, Live Haul Operations\n\nPilgrim's Corporation\, Live Operations\n\nPilgrim's Corporation\, Poultry Processing Plant\n\nPilgrim's Corporation\, Truck Maintenance Shop\n\nTyson Foods\, Inc.\, Monroe Grow-Out\n\nTyson Foods\, Inc.\, Monroe Plant\n\nTyson Foods\, Inc.\, Monroe Service Center\n\nUnion County Community Action\, Administrative Offices\n\nUnion Oral Surgery and Dental Implant Center \n\nUnion Pediatrics\n\nUTC Aerospace Systems \n\nWindsor Windows and Doors\, Inc.\n\nYale Security\, Inc.\, Norton Door Controls\n\n \n\nSecond Consecutive Year\n\nAFL Telecommunications\, OSPE - Raleigh\n\nAmerican Wick Corporation\n\nASSA Abloy Entrance Systems\, Pedestrian Door Solutions\n\nCertified Collision Services\, Inc.\, Matthews\n\nCertified Collision Services\, Inc.\, Monroe\n\nDu-Co Ceramics Company\, Monroe Division\n\nIndian Trail Pediatrics \n\nUnion County \n\n\n\nThird Consecutive Year\n\nEminess Technologies\, Inc.\n\nQEMS\, Inc.\n\n \n\nFourth Consecutive Year\n\nGoulston Technologies\, Inc.\n\nMetal Recycling Services LLC\, Monroe\n\n \n\nFifth Consecutive Year\n\nCarolina Staffing Resources\n\nNC Department of Transportation Division of\, Highways\, 10th Division Union Equipment Sub-Shop\n\nTyson Foods\, Inc.\, Monroe Feedmill\n\n \n\nSixth Consecutive Year\n\nTown of Waxhaw\n\n \n\nSeventh Consecutive Year\n\nATI Specialty Materials\, Bakers South Operations\n\n \n\nEighth Consecutive Year\n\nAFL Telecommunications\, Enterprise - Raleigh\n\nScott Safety\n\n \n\nNinth Consecutive Year\n\nATI Specialty Materials\, East Operations\n\n \n\nTenth Consecutive Year \n\nTyson Foods\, Inc.\, Monroe Breeders\n\n \n\nTwelfth Consecutive Year \n\nATI Specialty Materials\, Bakers North Operations\n\nMcGee Corporation\n\n \n\nFifteenth Consecutive Year \n\nNC Department of Commerce\, Division of Workforce Solutions\, Monroe Workforce Office\n\n \n\nForty-First Consecutive Year\n\nATI Specialty Materials\, Monroe Operations\n\n\n\nMillion-Hour Awards\n1 million hours\, or multiples thereof\, with no lost time accidents\n\n\n\nPILGRIMS CORPORATION\n\nOne Million Hours\n\nDecember 9\, 2015 through January 9\, 2016\n\n \n\nCENTURY CONTRACTORS\, INC.\n\nTwo Million Hours\n\nApril 17\, 2012 through December 31\, 2016\n\n\n\nCENTURY CONTRACTORS\, INC.\n\nThree Million Hours\n\nApril 17\, 2012 through December 31\, 2016
X-ALT-DESC;FMTTYPE=text/html:Join us on <strong>Thursday\, May 11\, 2017&nbsp\;</strong>as we celebrate with the<span style="color: rgb(0\, 0\, 255)\;"><span style="font-size: 16px\;"> <span style="font-size: 14px\;"><strong>2017 Safety Awards Recipients</strong></span></span></span> at our <strong>Annual Safety Awards Luncheon</strong>.&nbsp\; Network with fellow Chamber members and guests and meet North Carolina Department of Labor Commissioner\, Cherie Berry.&nbsp\; Awards are bestowed in three categories: &nbsp\;Silver\, Gold\, and Million Hours Safety Awards.\n\n<div>&nbsp\;\n<div>\n<div><strong><span style="color: green\;"><span style="font-family: garamond\,serif\;"><span style="font-size: 14pt\;">Union County&nbsp\;Safety Awards Banquet</span></span></span></strong><br />\n<strong><span style="color: green\;"><span style="font-family: garamond\,serif\;"><span style="font-size: 14pt\;">May 11\, 2017</span></span></span></strong><br />\n&nbsp\;<br />\n<span style="color: rgb(0\, 0\, 205)\;"><span style="font-size: 20px\;"><strong><span style="font-family: garamond\,serif\;">Silver Awards</span></strong></span></span><br />\n<em><span style="font-family: garamond\,serif\;"><span style="font-size: 10pt\;">Criteria: Rate of days away from work must be at least 50% below the industry average.</span></span></em><br />\n<br />\n<strong><span style="font-family: garamond\,serif\;"><span style="font-size: 14px\;"><span style="font-family: times new roman\;">First Year</span></span></span></strong><br />\n<span style="font-size: 14px\;"><span style="font-family: times new roman\;">Pilgrim&#39\;s Corporation\, Feed Mill<br />\nUnion County\, Public Works<br />\nUnion County Community Action\, Faison and Morven Facilities</span></span><br />\n&nbsp\;<br />\n<span style="font-size: 14px\;"><span style="font-family: times new roman\;"><strong>Second Consecutive Year</strong><br />\nAFL Telecommunications\, Enterprise - Monroe</span></span><br />\n<br />\n<span style="color: rgb(0\, 0\, 205)\;"><span style="font-size: 20px\;"><strong><span style="font-family: garamond\,serif\;">Gold Awards</span></strong></span></span><br />\n<em><span style="font-family: garamond\,serif\;">Criteria: Rate of Days Away From Work\, Job Transfer Or Restriction Must Be At Least 50% Below The Industry Average.</span></em><br />\n<br />\n<span style="font-size: 14px\;"><span style="font-family: times new roman\;"><strong>First Year</strong><br />\nAFL Telecommunications\, OSPE - Monroe<br />\nATI Specialty Materials\, Bakers Powder Operations<br />\nBirch Brothers Southern\, Inc.<br />\nCarolinas Healthcare System\, Urgent Care - Monroe<br />\nCentury Contractors\, Inc.<br />\nCharlotte Pipe &amp\; Foundry\, Plastics Division<br />\nCity of Monroe&nbsp\;<br />\nFirst Cut Design &amp\; Fabrication<br />\nHarris Teeter\, Indian Trail - Support<br />\nOro Manufacturing Company<br />\nPiedmont Natural Gas\, Indian Trail Resource Center<br />\nPilgrim&#39\;s Corporation\, Hatchery<br />\nPilgrim&#39\;s Corporation\, Live Haul Operations<br />\nPilgrim&#39\;s Corporation\, Live Operations<br />\nPilgrim&#39\;s Corporation\, Poultry Processing Plant<br />\nPilgrim&#39\;s Corporation\, Truck Maintenance Shop<br />\nTyson Foods\, Inc.\, Monroe Grow-Out<br />\nTyson Foods\, Inc.\, Monroe Plant<br />\nTyson Foods\, Inc.\, Monroe Service Center<br />\nUnion County Community Action\, Administrative Offices<br />\nUnion Oral Surgery and Dental Implant Center&nbsp\;<br />\nUnion Pediatrics<br />\nUTC Aerospace Systems&nbsp\;<br />\nWindsor Windows and Doors\, Inc.<br />\nYale Security\, Inc.\, Norton Door Controls<br />\n&nbsp\;<br />\n<strong>Second Consecutive Year</strong><br />\nAFL Telecommunications\, OSPE - Raleigh<br />\nAmerican Wick Corporation<br />\nASSA Abloy Entrance Systems\, Pedestrian Door Solutions<br />\nCertified Collision Services\, Inc.\, Matthews<br />\nCertified Collision Services\, Inc.\, Monroe<br />\nDu-Co Ceramics Company\, Monroe Division<br />\nIndian Trail Pediatrics&nbsp\;<br />\nUnion County&nbsp\;<br />\n<br />\n<strong>Third Consecutive Year</strong><br />\nEminess Technologies\, Inc.<br />\nQEMS\, Inc.<br />\n&nbsp\;<br />\n<strong>Fourth Consecutive Year</strong><br />\nGoulston Technologies\, Inc.<br />\nMetal Recycling Services LLC\, Monroe<br />\n&nbsp\;<br />\n<strong>Fifth Consecutive Year</strong><br />\nCarolina Staffing Resources<br />\nNC Department of Transportation Division of\, Highways\, 10th Division Union Equipment Sub-Shop<br />\nTyson Foods\, Inc.\, Monroe Feedmill<br />\n&nbsp\;<br />\n<strong>Sixth Consecutive Year</strong><br />\nTown of Waxhaw<br />\n&nbsp\;<br />\n<strong>Seventh Consecutive Year</strong><br />\nATI Specialty Materials\, Bakers South Operations<br />\n&nbsp\;<br />\n<strong>Eighth Consecutive Year</strong><br />\nAFL Telecommunications\, Enterprise - Raleigh<br />\nScott Safety<br />\n&nbsp\;<br />\n<strong>Ninth Consecutive Year</strong><br />\nATI Specialty Materials\, East Operations<br />\n&nbsp\;<br />\n<strong>Tenth Consecutive Year </strong><br />\nTyson Foods\, Inc.\, Monroe Breeders<br />\n&nbsp\;<br />\n<strong>Twelfth Consecutive Year </strong><br />\nATI Specialty Materials\, Bakers North Operations<br />\nMcGee Corporation<br />\n&nbsp\;<br />\n<strong>Fifteenth Consecutive Year </strong><br />\nNC Department of Commerce\, Division of Workforce Solutions\, Monroe Workforce Office<br />\n&nbsp\;<br />\n<strong>Forty-First Consecutive Year</strong><br />\nATI Specialty Materials\, Monroe Operations</span></span><br />\n<br />\n<strong style="color: rgb(0\, 0\, 205)\; font-size: 20px\;"><span style="font-family: garamond\,serif\;">Million-Hour Awards</span></strong></div>\n<em><span style="font-family: garamond\,serif\;">1 million hours\, or multiples thereof\, with no lost time accidents</span></em><br />\n<br />\n<span style="font-size: 14px\;"><span style="font-family: times new roman\;"><strong>PILGRIMS CORPORATION</strong><br />\n<em>One</em><em> Million Hours</em><br />\nDecember 9\, 2015 through January 9\, 2016<br />\n&nbsp\;<br />\n<strong>CENTURY CONTRACTORS\, INC.</strong><br />\n<em>Two</em><em> Million Hours</em><br />\nApril 17\, 2012 through December 31\, 2016</span></span><br />\n<br />\n<span style="font-size:14px\;"><span style="font-family:times new roman\;"><strong background-color:="" font-size:="" new="" style="color: rgb(51\, 51\, 51)\; font-family: " times="">CENTURY CONTRACTORS\, INC.</strong><br background-color:="" font-size:="" new="" style="color: rgb(51\, 51\, 51)\; font-family: " times="" />\n<em background-color:="" font-size:="" new="" style="color: rgb(51\, 51\, 51)\; font-family: " times="">Three</em><em background-color:="" font-size:="" new="" style="color: rgb(51\, 51\, 51)\; font-family: " times="">&nbsp\;Million Hours</em><br background-color:="" font-size:="" new="" style="color: rgb(51\, 51\, 51)\; font-family: " times="" />\n<span background-color:="" font-size:="" new="" style="color: rgb(51\, 51\, 51)\; font-family: " times="">April 17\, 2012 through December 31\, 20</span><span background-color:="" font-size:="" new="" style="color: rgb(51\, 51\, 51)\; font-family: " times="">16</span></span></span></div>\n</div>\n
LOCATION:South Piedmont Community College 4209 Old Charlotte Highway Monroe\, NC 28110
UID:e.391.11975
SEQUENCE:3
DTSTAMP:20260420T073911Z
URL:https://members.unioncountycoc.com/events/details/2017-safety-awards-banquet-11975
END:VEVENT

END:VCALENDAR
